BEGIN:VCALENDAR
VERSION:2.0
PRODID:-//ChamberMaster//Event Calendar 2.0//EN
METHOD:PUBLISH
X-PUBLISHED-TTL:P3D
REFRESH-INTERVAL:P3D
CALSCALE:GREGORIAN
BEGIN:VEVENT
DTSTART;VALUE=DATE:20181031
DTEND;VALUE=DATE:20181101
TRANSP:TRANSPARENT
X-MICROSOFT-CDO-ALLDAYEVENT:TRUE
SUMMARY:2018/2019 Corporate Membership Renewals
DESCRIPTION:**FOR CURRENT MEMBERS ONLY** \n\n\n\nRenew your 2018/2019 Alliance Membership Online!\n\n\n\n**Contact us about payment plans**
X-ALT-DESC;FMTTYPE=text/html:<span style="font-size: 12px\;"><strong>**FOR CURRENT MEMBERS ONLY**&nbsp\;</strong><br />\n<br />\nRenew your 2018/2019 Alliance Membership Online!</span><br />\n<br />\n<u><a href="mailto:rlogan@alaskaalliance.com?subject=Alliance%20Membership%20payment%20plans"><span style="color: rgb(0\, 0\, 255)\;"><span style="line-height: 19.2px\; font-family: sans-serif\, Arial\, Verdana\, &quot\;Trebuchet MS&quot\;\; font-size: 12px\; background-color: rgb(255\, 255\, 255)\;">**Contact us about payment plans**</span></span></a></u><br />\n&nbsp\;
LOCATION:
UID:e.9074.2098
SEQUENCE:3
DTSTAMP:20260425T175300Z
URL:http://members.alaskaalliance.com/events/details/2018-2019-corporate-membership-renewals-2098
END:VEVENT

END:VCALENDAR
