BEGIN:VCALENDAR
VERSION:2.0
PRODID:-//ChamberMaster//Event Calendar 2.0//EN
METHOD:PUBLISH
X-PUBLISHED-TTL:P3D
REFRESH-INTERVAL:P3D
CALSCALE:GREGORIAN
BEGIN:VEVENT
DTSTART;VALUE=DATE:20191115
DTEND;VALUE=DATE:20191116
TRANSP:TRANSPARENT
X-MICROSOFT-CDO-ALLDAYEVENT:TRUE
SUMMARY:2019/2020 Corporate Membership Renewals
DESCRIPTION:**FOR CURRENT MEMBERS ONLY** \n\n\n\nRenew your FY 2019/2020 Alliance Membership Online!
X-ALT-DESC;FMTTYPE=text/html:<span style="font-size: 12px\;"><strong>**FOR CURRENT MEMBERS ONLY**&nbsp\;</strong><br />\n<br />\nRenew your FY 2019/2020 Alliance Membership Online!</span><br />\n&nbsp\;
LOCATION:
UID:e.9074.3153
SEQUENCE:3
DTSTAMP:20260424T185709Z
URL:http://members.alaskaalliance.com/events/details/2019-2020-corporate-membership-renewals-3153
END:VEVENT

END:VCALENDAR
