BEGIN:VCALENDAR
VERSION:2.0
PRODID:-//ChamberMaster//Event Calendar 2.0//EN
METHOD:PUBLISH
X-PUBLISHED-TTL:P3D
REFRESH-INTERVAL:P3D
CALSCALE:GREGORIAN
BEGIN:VEVENT
DTSTART:20180927T150000Z
DTEND:20180927T160000Z
X-MICROSOFT-CDO-ALLDAYEVENT:FALSE
SUMMARY:Alliance Bi-Monthly Breakfast
DESCRIPTION:Speaker: Howard "Skip" Elliott\, PHMSA Administrator
X-ALT-DESC;FMTTYPE=text/html:<p><span style="font-size: 14px\;"><em><strong>Speaker:&nbsp\;Howard &quot\;Skip&quot\; Elliott\, PHMSA Administrator</strong></em></span><br />\n&nbsp\;</p>\n\n<div>&nbsp\;</div>\n\n<div>&nbsp\;</div>\n\n<p><br />\n&nbsp\;</p>\n
LOCATION:THE EGAN CENTER - PLEASE NOTE LOCATION CHANGE La Perouse Room 555 W. 5th Avenue Anchorage AK
UID:e.9074.3105
SEQUENCE:3
DTSTAMP:20260425T193117Z
URL:http://members.alaskaalliance.com/events/details/alliance-bi-monthly-breakfast-3105
END:VEVENT

END:VCALENDAR
