BEGIN:VCALENDAR
VERSION:2.0
PRODID:-//ChamberMaster//Event Calendar 2.0//EN
METHOD:PUBLISH
X-PUBLISHED-TTL:P3D
REFRESH-INTERVAL:P3D
CALSCALE:GREGORIAN
BEGIN:VEVENT
DTSTART:20181213T160000Z
DTEND:20181213T170000Z
X-MICROSOFT-CDO-ALLDAYEVENT:FALSE
SUMMARY:Alliance Bi-Monthly Breakfast
DESCRIPTION:Speaker: Mead Treadwell
X-ALT-DESC;FMTTYPE=text/html:<p>Speaker:&nbsp\;Mead Treadwell<br />\n&nbsp\;</p>\n\n<div>&nbsp\;</div>\n\n<div>&nbsp\;</div>\n\n<p><br />\n&nbsp\;</p>\n
LOCATION:The Dena'ina Center 600 W 7th Ave\, Anchorage AK
UID:e.9074.3108
SEQUENCE:3
DTSTAMP:20260425T144612Z
URL:http://members.alaskaalliance.com/events/details/alliance-bi-monthly-breakfast-3108
END:VEVENT

END:VCALENDAR
