BEGIN:VCALENDAR
VERSION:2.0
PRODID:-//ChamberMaster//Event Calendar 2.0//EN
METHOD:PUBLISH
X-PUBLISHED-TTL:P3D
REFRESH-INTERVAL:P3D
CALSCALE:GREGORIAN
BEGIN:VEVENT
DTSTART:20190214T160000Z
DTEND:20190214T170000Z
X-MICROSOFT-CDO-ALLDAYEVENT:FALSE
SUMMARY:Alliance Bi-Monthly Breakfast
DESCRIPTION:Speaker: Bill Bieber\, Mining and Petroleum Training Service
X-ALT-DESC;FMTTYPE=text/html:<p>Speaker:&nbsp\;Bill Bieber\, Mining and Petroleum Training Service<br />\n&nbsp\;</p>\n\n<div>&nbsp\;</div>\n\n<div>&nbsp\;</div>\n\n<p><br />\n&nbsp\;</p>\n
LOCATION:The Egan Center 555 W. 5th Avenue
UID:e.9074.3113
SEQUENCE:3
DTSTAMP:20260425T102645Z
URL:http://members.alaskaalliance.com/events/details/alliance-bi-monthly-breakfast-3113
END:VEVENT

END:VCALENDAR
