BEGIN:VCALENDAR
VERSION:2.0
PRODID:-//ChamberMaster//Event Calendar 2.0//EN
METHOD:PUBLISH
X-PUBLISHED-TTL:P3D
REFRESH-INTERVAL:P3D
CALSCALE:GREGORIAN
BEGIN:VEVENT
DTSTART:20190614T150000Z
DTEND:20190614T210000Z
X-MICROSOFT-CDO-ALLDAYEVENT:FALSE
SUMMARY:Anchorage Golf Tournament
DESCRIPTION:Our most anticipated summer event! Click here for registration form.\n\n	7am Tee time\, we are taking advantage of our long days!\n	Best Ball Scramble\n	Mulligans\n	BBQ & Awards Ceremony immediately following\n\nSponsorship opportunities are available!
X-ALT-DESC;FMTTYPE=text/html:Our most anticipated summer event!&nbsp\;<a href="https://chambermaster.blob.core.windows.net/userfiles/UserFiles/chambers/9074/File/2019ANCGolfRegistrationForm.pdf">Click here</a>&nbsp\;for registration form.\n<ul>\n	<li>7am Tee time\, we are taking advantage of our long days!</li>\n	<li>Best Ball Scramble</li>\n	<li>Mulligans</li>\n	<li>BBQ &amp\; Awards Ceremony immediately following</li>\n</ul>\n<a href="https://chambermaster.blob.core.windows.net/userfiles/UserFiles/chambers/9074/File/2019ANCGolfSponsorshipOpportunities.pdf">Sponsorship opportunities are available!</a>\n\n<div style="text-align: center\;"><br />\n&nbsp\;</div>\n
LOCATION:Moose Run Golf Course http://www.mooserungolfcourse.com/
UID:e.9074.3148
SEQUENCE:3
DTSTAMP:20260425T033526Z
URL:http://members.alaskaalliance.com/events/details/anchorage-golf-tournament-3148
END:VEVENT

END:VCALENDAR
