BEGIN:VCALENDAR
VERSION:2.0
PRODID:-//ChamberMaster//Event Calendar 2.0//EN
METHOD:PUBLISH
X-PUBLISHED-TTL:P3D
REFRESH-INTERVAL:P3D
CALSCALE:GREGORIAN
BEGIN:VEVENT
DTSTART:20200612T150000Z
DTEND:20200612T210000Z
X-MICROSOFT-CDO-ALLDAYEVENT:FALSE
SUMMARY:Anchorage Golf Tournament
DESCRIPTION:Our most anticipated summer event! \n\n	New this year to accommodate COVID rules: Assigned Tee Times for each team (still a best ball format)\n	Mulligans will be available for  purchase\n	Long Drive and Closest to the Pin Prizes\n	Team Awards  \n	Cigars\, Beverage Carts\, Boxed BBQ lunch for each golfer\, Bloody Mary Bars and more...\n\n\n We are working with the golf course to observe all COVID protocol to protect golfers\, while still having fun and seeing each other!  One person per cart\, you may also walk.   \n\n \n Information on Sponsorship Packages and what they include can be found here.
X-ALT-DESC;FMTTYPE=text/html:<span style="font-size:14px\;"><span style="font-family:arial\;">Our most anticipated summer event!&nbsp\;</span></span>\n<ul>\n	<li style="font-size:11pt\;font-family:Calibri\, sans-serif\;"><span style="font-size:14px\;"><span style="font-family:arial\;">New this year to accommodate&nbsp\;COVID rules:&nbsp\;Assigned Tee Times for each team (still a best ball format)</span></span></li>\n	<li style="font-size:11pt\;font-family:Calibri\, sans-serif\;"><span style="font-size:14px\;"><span style="font-family:arial\;">Mulligans will be available for&nbsp\;&nbsp\;purchase</span></span></li>\n	<li style="font-size:11pt\;font-family:Calibri\, sans-serif\;"><span style="font-size:14px\;"><span style="font-family:arial\;">Long Drive and Closest to the Pin Prizes</span></span></li>\n	<li style="font-size:11pt\;font-family:Calibri\, sans-serif\;"><span style="font-size:14px\;"><span style="font-family:arial\;">Team Awards&nbsp\;&nbsp\;</span></span></li>\n	<li style="font-size:11pt\;font-family:Calibri\, sans-serif\;"><span style="font-size:14px\;"><span style="font-family:arial\;">Cigars\, Beverage Carts\, Boxed BBQ lunch for each golfer\, Bloody Mary Bars and more...</span></span></li>\n</ul>\n\n<div style="font-size:11pt\;font-family:Calibri\, sans-serif\;"><span style="font-size:14px\;"><span style="font-family:arial\;">&#8203\;We are working with the golf course to observe all COVID protocol to protect golfers\, while still having fun and seeing each other!&nbsp\; One person per cart\, you may also walk. &nbsp\;&nbsp\;</span></span><br />\n&nbsp\;</div>\n<span style="font-size:14px\;"><span style="font-family:arial\;"> <a href="https://chambermaster.blob.core.windows.net/userfiles/UserFiles/chambers/9074/File/2020ANCGolfSponsorshipOpportunities.pdf">Information on Sponsorship Packages and what they include can be found here</a>.&nbsp\;</span></span>
LOCATION:Moose Run Golf Course http://www.mooserungolfcourse.com/
UID:e.9074.3184
SEQUENCE:3
DTSTAMP:20260424T065547Z
URL:http://members.alaskaalliance.com/events/details/anchorage-golf-tournament-3184
END:VEVENT

END:VCALENDAR
