BEGIN:VCALENDAR
VERSION:2.0
PRODID:-//ChamberMaster//Event Calendar 2.0//EN
METHOD:PUBLISH
X-PUBLISHED-TTL:P3D
REFRESH-INTERVAL:P3D
CALSCALE:GREGORIAN
BEGIN:VEVENT
DTSTART:20201016T013000Z
DTEND:20201016T033000Z
X-MICROSOFT-CDO-ALLDAYEVENT:FALSE
SUMMARY:Annual Meeting & Board Elections
DESCRIPTION:Annual Meeting & Board Elections
X-ALT-DESC;FMTTYPE=text/html:<p><span style="font-size: 14px\;"><span style="font-family: arial\;"><font color="#000000">Annual Meeting &amp\;&nbsp\;Board Elections</font></span></span><br />\n<br />\n&nbsp\;</p>\n
LOCATION:Petroleum Club of Anchorage 3301 C Street\, Ste 120 Anchorage\, AK 99503
UID:e.9074.3193
SEQUENCE:3
DTSTAMP:20260424T002326Z
URL:http://members.alaskaalliance.com/events/details/annual-meeting-board-elections-3193
END:VEVENT

END:VCALENDAR
