BEGIN:VCALENDAR
VERSION:2.0
PRODID:-//ChamberMaster//Event Calendar 2.0//EN
METHOD:PUBLISH
X-PUBLISHED-TTL:P3D
REFRESH-INTERVAL:P3D
CALSCALE:GREGORIAN
BEGIN:VEVENT
DTSTART:20181205T210000Z
DTEND:20181205T220000Z
X-MICROSOFT-CDO-ALLDAYEVENT:FALSE
SUMMARY:Fairbanks Chapter Monthly Luncheon
DESCRIPTION:Speaker:  Damian Bilbao\, BP Exploration Alaska
X-ALT-DESC;FMTTYPE=text/html:Speaker:&nbsp\; Damian Bilbao\, BP Exploration Alaska
LOCATION:Westmark Hotel and Conference Center Fairbanks\, AK
UID:e.9074.3138
SEQUENCE:3
DTSTAMP:20260425T144730Z
URL:http://members.alaskaalliance.com/events/details/fairbanks-chapter-monthly-luncheon-3138
END:VEVENT

END:VCALENDAR
