BEGIN:VCALENDAR
VERSION:2.0
PRODID:-//ChamberMaster//Event Calendar 2.0//EN
METHOD:PUBLISH
X-PUBLISHED-TTL:P3D
REFRESH-INTERVAL:P3D
CALSCALE:GREGORIAN
BEGIN:VEVENT
DTSTART:20181116T210000Z
DTEND:20181116T220000Z
X-MICROSOFT-CDO-ALLDAYEVENT:FALSE
SUMMARY:Kenai Chapter Luncheon
DESCRIPTION:AGDC Project Update
X-ALT-DESC;FMTTYPE=text/html:AGDC Project Update
LOCATION:Kenai Chamber of Commerce and Visitors Center
UID:e.9074.3137
SEQUENCE:3
DTSTAMP:20260425T161815Z
URL:http://members.alaskaalliance.com/events/details/kenai-chapter-luncheon-3137
END:VEVENT

END:VCALENDAR
