BEGIN:VCALENDAR
VERSION:2.0
PRODID:-//ChamberMaster//Event Calendar 2.0//EN
METHOD:PUBLISH
X-PUBLISHED-TTL:P3D
REFRESH-INTERVAL:P3D
CALSCALE:GREGORIAN
BEGIN:VEVENT
DTSTART:20190215T210000Z
DTEND:20190215T220000Z
X-MICROSOFT-CDO-ALLDAYEVENT:FALSE
SUMMARY:Kenai Chapter Luncheon
DESCRIPTION:Kenai Chapter Luncheon    \n\nSpeaker:  Mike Heatwole\, The Pebble Project\n\nSponsor: PDC Engineers
X-ALT-DESC;FMTTYPE=text/html:Kenai Chapter Luncheon&nbsp\;&nbsp\;&nbsp\;&nbsp\;<br />\nSpeaker: &nbsp\;Mike Heatwole\, The Pebble Project<br />\nSponsor: PDC Engineers
LOCATION:Kenai Visitors Center Kenai\, AK
UID:e.9074.3141
SEQUENCE:3
DTSTAMP:20260425T103146Z
URL:http://members.alaskaalliance.com/events/details/kenai-chapter-luncheon-3141
END:VEVENT

END:VCALENDAR
