BEGIN:VCALENDAR
VERSION:2.0
PRODID:-//ChamberMaster//Event Calendar 2.0//EN
METHOD:PUBLISH
X-PUBLISHED-TTL:P3D
REFRESH-INTERVAL:P3D
CALSCALE:GREGORIAN
BEGIN:VEVENT
DTSTART:20200117T210000Z
DTEND:20200117T220000Z
X-MICROSOFT-CDO-ALLDAYEVENT:FALSE
SUMMARY:Kenai Chapter Luncheon
DESCRIPTION:Kenai Chapter Luncheon
X-ALT-DESC;FMTTYPE=text/html:Kenai Chapter Luncheon&nbsp\;&nbsp\;&nbsp\;&nbsp\;<br />\n<br />\n&nbsp\;
LOCATION:Kenai Visitors Center Kenai\, AK
UID:e.9074.3172
SEQUENCE:3
DTSTAMP:20260424T104536Z
URL:http://members.alaskaalliance.com/events/details/kenai-chapter-luncheon-3172
END:VEVENT

END:VCALENDAR
