BEGIN:VCALENDAR
VERSION:2.0
PRODID:-//ChamberMaster//Event Calendar 2.0//EN
METHOD:PUBLISH
X-PUBLISHED-TTL:P3D
REFRESH-INTERVAL:P3D
CALSCALE:GREGORIAN
BEGIN:VEVENT
DTSTART:20200313T200000Z
DTEND:20200313T210000Z
X-MICROSOFT-CDO-ALLDAYEVENT:FALSE
SUMMARY:Kenai Chapter Luncheon
DESCRIPTION:Kenai Chapter Luncheon\n\nSpeaker:      Chantal Walsh\, Chairman\, OneAlaska \n\n                     Former Director\, Division of Oil  and Gas
X-ALT-DESC;FMTTYPE=text/html:Kenai Chapter Luncheon<br />\nSpeaker:&nbsp\; &nbsp\; &nbsp\; Chantal Walsh\, Chairman\, OneAlaska&nbsp\;<br />\n&nbsp\; &nbsp\; &nbsp\; &nbsp\; &nbsp\; &nbsp\; &nbsp\; &nbsp\; &nbsp\; &nbsp\; &nbsp\;Former Director\, Division of Oil&nbsp\; and Gas<br />\n<br />\n&nbsp\;
LOCATION:Kenai Visitors Center 11471 Kenai Spur Hwy Kenai\, AK 99611
UID:e.9074.3182
SEQUENCE:3
DTSTAMP:20260424T071726Z
URL:http://members.alaskaalliance.com/events/details/kenai-chapter-luncheon-3182
END:VEVENT

END:VCALENDAR
